View In:
ArcGIS JavaScript
ArcGIS Online Map Viewer
ArcGIS Earth
Service Description: Sandbox/Cassville_NAIP_2018_sid
Name: Sandbox/Cassville_NAIP_2018_sid
Description:
Single Fused Map Cache: false
Extent:
XMin: 398867.4
YMin: 4032322.1999999997
XMax: 450210.0
YMax: 4088830.1999999997
Spatial Reference: 26915
(26915)
LatestVCSWkid(0)
Initial Extent:
XMin: 398867.4
YMin: 4032322.1999999997
XMax: 450210.0
YMax: 4088830.1999999997
Spatial Reference: 26915
(26915)
LatestVCSWkid(0)
Full Extent:
XMin: 398867.4
YMin: 4032322.1999999997
XMax: 450210.0
YMax: 4088830.1999999997
Spatial Reference: 26915
(26915)
LatestVCSWkid(0)
Pixel Size X: 0.5999999999999998
Pixel Size Y: 0.6
Band Count: 3
Pixel Type: U8
RasterFunction Infos: {"rasterFunctionInfos": [{
"name": "None",
"description": "",
"help": ""
}]}
Mensuration Capabilities: Basic
Inspection Capabilities:
Has Histograms: true
Has Colormap: false
Has Multi Dimensions : false
Rendering Rule:
Min Scale: 0
Max Scale: 0
Copyright Text:
Service Data Type: esriImageServiceDataTypeRGB
Min Values: 0, 0, 0
Max Values: 237, 223, 190
Mean Values: 104.07246376812, 131.70885093168, 99.355848861284
Standard Deviation Values: 28.322385734281, 25.704939353522, 19.570582218169
Object ID Field:
Fields:
None
Default Mosaic Method: Center
Allowed Mosaic Methods:
SortField:
SortValue: null
Mosaic Operator: First
Default Compression Quality: 75
Default Resampling Method: Bilinear
Max Record Count: null
Max Image Height: 4100
Max Image Width: 15000
Max Download Image Count: null
Max Mosaic Image Count: null
Allow Raster Function: true
Allow Copy: true
Allow Analysis: true
Allow Compute TiePoints: false
Supports Statistics: false
Supports Advanced Queries: false
Use StandardizedQueries: true
Raster Type Infos:
Name: Raster Dataset
Description: Supports all ArcGIS Raster Datasets
Help:
Has Raster Attribute Table: false
Edit Fields Info: null
Ownership Based AccessControl For Rasters: null
Child Resources:
Info
Histograms
Statistics
Key Properties
Legend
Raster Function Infos
Supported Operations:
Export Image
Identify
Measure
Compute Histograms
Compute Statistics Histograms
Get Samples
Compute Class Statistics
Query Boundary
Compute Pixel Location
Compute Angles
Validate
Project