View In:
ArcGIS JavaScript
ArcGIS Online Map Viewer
ArcGIS Earth
Service Description: PikeCountyOH/PikeCountyOH_2021_Imagery
Name: PikeCountyOH/PikeCountyOH_2021_Imagery
Description:
Single Fused Map Cache: false
Extent:
XMin: 1715000.0
YMin: 345000.0
XMax: 1890000.0
YMax: 440000.0
Spatial Reference: 3754
(3754)
LatestVCSWkid(0)
Initial Extent:
XMin: 1715000.0
YMin: 345000.0
XMax: 1890000.0
YMax: 440000.0
Spatial Reference: 3754
(3754)
LatestVCSWkid(0)
Full Extent:
XMin: 1715000.0
YMin: 345000.0
XMax: 1890000.0
YMax: 440000.0
Spatial Reference: 3754
(3754)
LatestVCSWkid(0)
Pixel Size X: 0.5
Pixel Size Y: 0.5
Band Count: 3
Pixel Type: U8
RasterFunction Infos: {"rasterFunctionInfos": [{
"name": "None",
"description": "",
"help": ""
}]}
Mensuration Capabilities: Basic
Inspection Capabilities:
Has Histograms: true
Has Colormap: false
Has Multi Dimensions : false
Rendering Rule:
Min Scale: 0
Max Scale: 0
Copyright Text:
Service Data Type: esriImageServiceDataTypeRGB
Min Values: 37, 35, 19
Max Values: 255, 255, 255
Mean Values: 122.41415141019, 114.04601682335, 101.37481444829
Standard Deviation Values: 61.840089045831, 65.353451229055, 70.521909517165
Object ID Field:
Fields:
None
Default Mosaic Method: Center
Allowed Mosaic Methods:
SortField:
SortValue: null
Mosaic Operator: First
Default Compression Quality: 75
Default Resampling Method: Bilinear
Max Record Count: null
Max Image Height: 4100
Max Image Width: 15000
Max Download Image Count: null
Max Mosaic Image Count: null
Allow Raster Function: true
Allow Copy: true
Allow Analysis: true
Allow Compute TiePoints: false
Supports Statistics: false
Supports Advanced Queries: false
Use StandardizedQueries: true
Raster Type Infos:
Name: Raster Dataset
Description: Supports all ArcGIS Raster Datasets
Help:
Has Raster Attribute Table: false
Edit Fields Info: null
Ownership Based AccessControl For Rasters: null
Child Resources:
Info
Histograms
Statistics
Key Properties
Legend
Raster Function Infos
Supported Operations:
Export Image
Identify
Measure
Compute Histograms
Compute Statistics Histograms
Get Samples
Compute Class Statistics
Query Boundary
Compute Pixel Location
Compute Angles
Validate
Project