View In:
ArcGIS JavaScript
ArcGIS Online Map Viewer
ArcGIS Earth
Service Description: MexicoMo/mexicomodemo_transparent_mosaic_group1_tif
Name: MexicoMo/mexicomodemo_transparent_mosaic_group1_tif
Description:
Single Fused Map Cache: false
Extent:
XMin: 1817018.65761
YMin: 1213063.92934
XMax: 1817599.7612100001
YMax: 1214311.54648
Spatial Reference: 102697
(102697)
LatestVCSWkid(0)
Initial Extent:
XMin: 1817018.65761
YMin: 1213063.92934
XMax: 1817599.7612100001
YMax: 1214311.54648
Spatial Reference: 102697
(102697)
LatestVCSWkid(0)
Full Extent:
XMin: 1817018.65761
YMin: 1213063.92934
XMax: 1817599.7612100001
YMax: 1214311.54648
Spatial Reference: 102697
(102697)
LatestVCSWkid(0)
Pixel Size X: 0.08778000000000473
Pixel Size Y: 0.08777999999999912
Band Count: 4
Pixel Type: U8
RasterFunction Infos: {"rasterFunctionInfos": [{
"name": "None",
"description": "",
"help": ""
}]}
Mensuration Capabilities: Basic
Inspection Capabilities:
Has Histograms: true
Has Colormap: false
Has Multi Dimensions : false
Rendering Rule:
Min Scale: 0
Max Scale: 0
Copyright Text:
Service Data Type: esriImageServiceDataTypeGeneric
Min Values: 1, 3, 1, 255
Max Values: 255, 255, 255, 255
Mean Values: 145.46868968717, 139.71821715262, 111.62946157625, 255
Standard Deviation Values: 44.169121330369, 38.399872403732, 46.38518495391, 0
Object ID Field:
Fields:
None
Default Mosaic Method: Center
Allowed Mosaic Methods:
SortField:
SortValue: null
Mosaic Operator: First
Default Compression Quality: 75
Default Resampling Method: Bilinear
Max Record Count: null
Max Image Height: 4100
Max Image Width: 15000
Max Download Image Count: null
Max Mosaic Image Count: null
Allow Raster Function: true
Allow Copy: true
Allow Analysis: true
Allow Compute TiePoints: false
Supports Statistics: false
Supports Advanced Queries: false
Use StandardizedQueries: true
Raster Type Infos:
Name: Raster Dataset
Description: Supports all ArcGIS Raster Datasets
Help:
Has Raster Attribute Table: false
Edit Fields Info: null
Ownership Based AccessControl For Rasters: null
Child Resources:
Info
Histograms
Statistics
Key Properties
Legend
Raster Function Infos
Supported Operations:
Export Image
Identify
Measure
Compute Histograms
Compute Statistics Histograms
Get Samples
Compute Class Statistics
Query Boundary
Compute Pixel Location
Compute Angles
Validate
Project