View In:
ArcGIS JavaScript
ArcGIS Online Map Viewer
ArcGIS Earth
Service Description: MexicoMo/Southeast_RT_JJ_Area
Name: MexicoMo/Southeast_RT_JJ_Area
Description:
Single Fused Map Cache: false
Extent:
XMin: 1818207.472762136
YMin: 1206470.8240874088
XMax: 1834662.989414765
YMax: 1215493.35441897
Spatial Reference: 0
(0)
LatestVCSWkid(0)
Initial Extent:
XMin: 1818207.472762136
YMin: 1206470.8240874088
XMax: 1834662.989414765
YMax: 1215493.35441897
Spatial Reference: 0
(0)
LatestVCSWkid(0)
Full Extent:
XMin: 1818207.472762136
YMin: 1206470.8240874088
XMax: 1834662.989414765
YMax: 1215493.35441897
Spatial Reference: 0
(0)
LatestVCSWkid(0)
Pixel Size X: 2.0569395815786264
Pixel Size Y: 1.861082989183397
Band Count: 1
Pixel Type: U8
RasterFunction Infos: {"rasterFunctionInfos": [{
"name": "None",
"description": "",
"help": ""
}]}
Mensuration Capabilities: Basic
Inspection Capabilities:
Has Histograms: true
Has Colormap: false
Has Multi Dimensions : false
Rendering Rule:
Min Scale: 0
Max Scale: 0
Copyright Text:
Service Data Type: esriImageServiceDataTypeGeneric
Min Values: 45
Max Values: 255
Mean Values: 216.15111914707094
Standard Deviation Values: 14.971781483750476
Object ID Field:
Fields:
None
Default Mosaic Method: Center
Allowed Mosaic Methods:
SortField:
SortValue: null
Mosaic Operator: First
Default Compression Quality: 75
Default Resampling Method: Bilinear
Max Record Count: null
Max Image Height: 4100
Max Image Width: 15000
Max Download Image Count: null
Max Mosaic Image Count: null
Allow Raster Function: true
Allow Copy: true
Allow Analysis: true
Allow Compute TiePoints: false
Supports Statistics: false
Supports Advanced Queries: false
Use StandardizedQueries: true
Raster Type Infos:
Name: Raster Dataset
Description: Supports all ArcGIS Raster Datasets
Help:
Has Raster Attribute Table: false
Edit Fields Info: null
Ownership Based AccessControl For Rasters: null
Child Resources:
Info
Histograms
Statistics
Key Properties
Legend
Raster Function Infos
Supported Operations:
Export Image
Identify
Measure
Compute Histograms
Compute Statistics Histograms
Get Samples
Compute Class Statistics
Query Boundary
Compute Pixel Location
Compute Angles
Validate
Project