View In:
ArcGIS JavaScript
ArcGIS Online Map Viewer
ArcGIS Earth
Service Description: MexicoMo/Northwest_Kentucky_Area
Name: MexicoMo/Northwest_Kentucky_Area
Description:
Single Fused Map Cache: false
Extent:
XMin: 1804709.0095456229
YMin: 1214103.030367603
XMax: 1820316.1410225413
YMax: 1223631.478562803
Spatial Reference: 0
(0)
LatestVCSWkid(0)
Initial Extent:
XMin: 1804709.0095456229
YMin: 1214103.030367603
XMax: 1820316.1410225413
YMax: 1223631.478562803
Spatial Reference: 0
(0)
LatestVCSWkid(0)
Full Extent:
XMin: 1804709.0095456229
YMin: 1214103.030367603
XMax: 1820316.1410225413
YMax: 1223631.478562803
Spatial Reference: 0
(0)
LatestVCSWkid(0)
Pixel Size X: 1.9589721949188488
Pixel Size Y: 1.972355246367201
Band Count: 1
Pixel Type: U8
RasterFunction Infos: {"rasterFunctionInfos": [{
"name": "None",
"description": "",
"help": ""
}]}
Mensuration Capabilities: Basic
Inspection Capabilities:
Has Histograms: true
Has Colormap: false
Has Multi Dimensions : false
Rendering Rule:
Min Scale: 0
Max Scale: 0
Copyright Text:
Service Data Type: esriImageServiceDataTypeGeneric
Min Values: 19
Max Values: 255
Mean Values: 208.79082827614022
Standard Deviation Values: 22.919481669509143
Object ID Field:
Fields:
None
Default Mosaic Method: Center
Allowed Mosaic Methods:
SortField:
SortValue: null
Mosaic Operator: First
Default Compression Quality: 75
Default Resampling Method: Bilinear
Max Record Count: null
Max Image Height: 4100
Max Image Width: 15000
Max Download Image Count: null
Max Mosaic Image Count: null
Allow Raster Function: true
Allow Copy: true
Allow Analysis: true
Allow Compute TiePoints: false
Supports Statistics: false
Supports Advanced Queries: false
Use StandardizedQueries: true
Raster Type Infos:
Name: Raster Dataset
Description: Supports all ArcGIS Raster Datasets
Help:
Has Raster Attribute Table: false
Edit Fields Info: null
Ownership Based AccessControl For Rasters: null
Child Resources:
Info
Histograms
Statistics
Key Properties
Legend
Raster Function Infos
Supported Operations:
Export Image
Identify
Measure
Compute Histograms
Compute Statistics Histograms
Get Samples
Compute Class Statistics
Query Boundary
Compute Pixel Location
Compute Angles
Validate
Project