View In:
ArcGIS JavaScript
ArcGIS Online Map Viewer
ArcGIS Earth
Service Description: MexicoMo/Northeast_Pollock_Rd_Area
Name: MexicoMo/Northeast_Pollock_Rd_Area
Description:
Single Fused Map Cache: false
Extent:
XMin: 1818565.6740592488
YMin: 1214079.6178485595
XMax: 1833491.6568688974
YMax: 1223599.2757207952
Spatial Reference: 0
(0)
LatestVCSWkid(0)
Initial Extent:
XMin: 1818565.6740592488
YMin: 1214079.6178485595
XMax: 1833491.6568688974
YMax: 1223599.2757207952
Spatial Reference: 0
(0)
LatestVCSWkid(0)
Full Extent:
XMin: 1818565.6740592488
YMin: 1214079.6178485595
XMax: 1833491.6568688974
YMax: 1223599.2757207952
Spatial Reference: 0
(0)
LatestVCSWkid(0)
Pixel Size X: 1.865747851206077
Pixel Size Y: 1.9515493793020982
Band Count: 1
Pixel Type: U8
RasterFunction Infos: {"rasterFunctionInfos": [{
"name": "None",
"description": "",
"help": ""
}]}
Mensuration Capabilities: Basic
Inspection Capabilities:
Has Histograms: true
Has Colormap: false
Has Multi Dimensions : false
Rendering Rule:
Min Scale: 0
Max Scale: 0
Copyright Text:
Service Data Type: esriImageServiceDataTypeGeneric
Min Values: 46
Max Values: 255
Mean Values: 220.40323001230013
Standard Deviation Values: 13.313261991222015
Object ID Field:
Fields:
None
Default Mosaic Method: Center
Allowed Mosaic Methods:
SortField:
SortValue: null
Mosaic Operator: First
Default Compression Quality: 75
Default Resampling Method: Bilinear
Max Record Count: null
Max Image Height: 4100
Max Image Width: 15000
Max Download Image Count: null
Max Mosaic Image Count: null
Allow Raster Function: true
Allow Copy: true
Allow Analysis: true
Allow Compute TiePoints: false
Supports Statistics: false
Supports Advanced Queries: false
Use StandardizedQueries: true
Raster Type Infos:
Name: Raster Dataset
Description: Supports all ArcGIS Raster Datasets
Help:
Has Raster Attribute Table: false
Edit Fields Info: null
Ownership Based AccessControl For Rasters: null
Child Resources:
Info
Histograms
Statistics
Key Properties
Legend
Raster Function Infos
Supported Operations:
Export Image
Identify
Measure
Compute Histograms
Compute Statistics Histograms
Get Samples
Compute Class Statistics
Query Boundary
Compute Pixel Location
Compute Angles
Validate
Project