View In:
ArcGIS JavaScript
ArcGIS Online Map Viewer
ArcGIS Earth
Service Description: MexicoMo/APGreen_Sheet9
Name: MexicoMo/APGreen_Sheet9
Description:
Single Fused Map Cache: false
Extent:
XMin: 1818779.2752699533
YMin: 1212958.8637108945
XMax: 1819575.4940923015
YMax: 1213605.9053797422
Spatial Reference: 0
(0)
LatestVCSWkid(0)
Initial Extent:
XMin: 1818779.2752699533
YMin: 1212958.8637108945
XMax: 1819575.4940923015
YMax: 1213605.9053797422
Spatial Reference: 0
(0)
LatestVCSWkid(0)
Full Extent:
XMin: 1818779.2752699533
YMin: 1212958.8637108945
XMax: 1819575.4940923015
YMax: 1213605.9053797422
Spatial Reference: 0
(0)
LatestVCSWkid(0)
Pixel Size X: 0.0759171264634024
Pixel Size Y: 0.07591712646341299
Band Count: 3
Pixel Type: U16
RasterFunction Infos: {"rasterFunctionInfos": [{
"name": "None",
"description": "",
"help": ""
}]}
Mensuration Capabilities: Basic
Inspection Capabilities:
Has Histograms: true
Has Colormap: false
Has Multi Dimensions : false
Rendering Rule:
Min Scale: 0
Max Scale: 0
Copyright Text:
Service Data Type: esriImageServiceDataTypeGeneric
Min Values: 0, 0, 0
Max Values: 255, 255, 249
Mean Values: 231.30494778716, 207.4326897331, 188.43006828023
Standard Deviation Values: 34.133241466043, 37.096829582666, 36.643746810994
Object ID Field:
Fields:
None
Default Mosaic Method: Center
Allowed Mosaic Methods:
SortField:
SortValue: null
Mosaic Operator: First
Default Compression Quality: 75
Default Resampling Method: Bilinear
Max Record Count: null
Max Image Height: 4100
Max Image Width: 15000
Max Download Image Count: null
Max Mosaic Image Count: null
Allow Raster Function: true
Allow Copy: true
Allow Analysis: true
Allow Compute TiePoints: false
Supports Statistics: false
Supports Advanced Queries: false
Use StandardizedQueries: true
Raster Type Infos:
Name: Raster Dataset
Description: Supports all ArcGIS Raster Datasets
Help:
Has Raster Attribute Table: false
Edit Fields Info: null
Ownership Based AccessControl For Rasters: null
Child Resources:
Info
Histograms
Statistics
Key Properties
Legend
Raster Function Infos
Supported Operations:
Export Image
Identify
Measure
Compute Histograms
Compute Statistics Histograms
Get Samples
Compute Class Statistics
Query Boundary
Compute Pixel Location
Compute Angles
Validate
Project