View In:
ArcGIS JavaScript
ArcGIS Online Map Viewer
ArcGIS Earth
Service Description: MexicoMo/APGreen_Sheet8
Name: MexicoMo/APGreen_Sheet8
Description:
Single Fused Map Cache: false
Extent:
XMin: 1818387.936782572
YMin: 1213766.426481117
XMax: 1819165.935413954
YMax: 1214405.6432828237
Spatial Reference: 0
(0)
LatestVCSWkid(0)
Initial Extent:
XMin: 1818387.936782572
YMin: 1213766.426481117
XMax: 1819165.935413954
YMax: 1214405.6432828237
Spatial Reference: 0
(0)
LatestVCSWkid(0)
Full Extent:
XMin: 1818387.936782572
YMin: 1213766.426481117
XMax: 1819165.935413954
YMax: 1214405.6432828237
Spatial Reference: 0
(0)
LatestVCSWkid(0)
Pixel Size X: 0.07596159259735678
Pixel Size Y: 0.07596159259735015
Band Count: 3
Pixel Type: U16
RasterFunction Infos: {"rasterFunctionInfos": [{
"name": "None",
"description": "",
"help": ""
}]}
Mensuration Capabilities: Basic
Inspection Capabilities:
Has Histograms: true
Has Colormap: false
Has Multi Dimensions : false
Rendering Rule:
Min Scale: 0
Max Scale: 0
Copyright Text:
Service Data Type: esriImageServiceDataTypeGeneric
Min Values: 0, 0, 0
Max Values: 255, 255, 252
Mean Values: 173.0768101227, 107.00919468565, 86.064232224657
Standard Deviation Values: 36.39817381296, 32.049710540148, 28.908890398657
Object ID Field:
Fields:
None
Default Mosaic Method: Center
Allowed Mosaic Methods:
SortField:
SortValue: null
Mosaic Operator: First
Default Compression Quality: 75
Default Resampling Method: Bilinear
Max Record Count: null
Max Image Height: 4100
Max Image Width: 15000
Max Download Image Count: null
Max Mosaic Image Count: null
Allow Raster Function: true
Allow Copy: true
Allow Analysis: true
Allow Compute TiePoints: false
Supports Statistics: false
Supports Advanced Queries: false
Use StandardizedQueries: true
Raster Type Infos:
Name: Raster Dataset
Description: Supports all ArcGIS Raster Datasets
Help:
Has Raster Attribute Table: false
Edit Fields Info: null
Ownership Based AccessControl For Rasters: null
Child Resources:
Info
Histograms
Statistics
Key Properties
Legend
Raster Function Infos
Supported Operations:
Export Image
Identify
Measure
Compute Histograms
Compute Statistics Histograms
Get Samples
Compute Class Statistics
Query Boundary
Compute Pixel Location
Compute Angles
Validate
Project