View In:
ArcGIS JavaScript
ArcGIS Online Map Viewer
ArcGIS Earth
Service Description: MexicoMo/APGreen_Sheet5
Name: MexicoMo/APGreen_Sheet5
Description:
Single Fused Map Cache: false
Extent:
XMin: 1818084.4183608214
YMin: 1212785.388399178
XMax: 1818865.1264986943
YMax: 1213419.0307933497
Spatial Reference: 0
(0)
LatestVCSWkid(0)
Initial Extent:
XMin: 1818084.4183608214
YMin: 1212785.388399178
XMax: 1818865.1264986943
YMax: 1213419.0307933497
Spatial Reference: 0
(0)
LatestVCSWkid(0)
Full Extent:
XMin: 1818084.4183608214
YMin: 1212785.388399178
XMax: 1818865.1264986943
YMax: 1213419.0307933497
Spatial Reference: 0
(0)
LatestVCSWkid(0)
Pixel Size X: 0.07588531666726883
Pixel Size Y: 0.07588531666728082
Band Count: 3
Pixel Type: U16
RasterFunction Infos: {"rasterFunctionInfos": [{
"name": "None",
"description": "",
"help": ""
}]}
Mensuration Capabilities: Basic
Inspection Capabilities:
Has Histograms: true
Has Colormap: false
Has Multi Dimensions : false
Rendering Rule:
Min Scale: 0
Max Scale: 0
Copyright Text:
Service Data Type: esriImageServiceDataTypeGeneric
Min Values: 0, 0, 0
Max Values: 255, 255, 255
Mean Values: 175.35256094669, 133.61033569042, 111.92797723692
Standard Deviation Values: 31.557952038492, 31.697125252715, 29.07304647827
Object ID Field:
Fields:
None
Default Mosaic Method: Center
Allowed Mosaic Methods:
SortField:
SortValue: null
Mosaic Operator: First
Default Compression Quality: 75
Default Resampling Method: Bilinear
Max Record Count: null
Max Image Height: 4100
Max Image Width: 15000
Max Download Image Count: null
Max Mosaic Image Count: null
Allow Raster Function: true
Allow Copy: true
Allow Analysis: true
Allow Compute TiePoints: false
Supports Statistics: false
Supports Advanced Queries: false
Use StandardizedQueries: true
Raster Type Infos:
Name: Raster Dataset
Description: Supports all ArcGIS Raster Datasets
Help:
Has Raster Attribute Table: false
Edit Fields Info: null
Ownership Based AccessControl For Rasters: null
Child Resources:
Info
Histograms
Statistics
Key Properties
Legend
Raster Function Infos
Supported Operations:
Export Image
Identify
Measure
Compute Histograms
Compute Statistics Histograms
Get Samples
Compute Class Statistics
Query Boundary
Compute Pixel Location
Compute Angles
Validate
Project