View In:
ArcGIS JavaScript
ArcGIS Online Map Viewer
ArcGIS Earth
Service Description: MexicoMo/APGreen_Sheet3
Name: MexicoMo/APGreen_Sheet3
Description:
Single Fused Map Cache: false
Extent:
XMin: 1817607.522131943
YMin: 1213246.2299827316
XMax: 1818401.6299582864
YMax: 1213903.6024875522
Spatial Reference: 0
(0)
LatestVCSWkid(0)
Initial Extent:
XMin: 1817607.522131943
YMin: 1213246.2299827316
XMax: 1818401.6299582864
YMax: 1213903.6024875522
Spatial Reference: 0
(0)
LatestVCSWkid(0)
Full Extent:
XMin: 1817607.522131943
YMin: 1213246.2299827316
XMax: 1818401.6299582864
YMax: 1213903.6024875522
Spatial Reference: 0
(0)
LatestVCSWkid(0)
Pixel Size X: 0.07668834633930514
Pixel Size Y: 0.07668834633931189
Band Count: 3
Pixel Type: U16
RasterFunction Infos: {"rasterFunctionInfos": [{
"name": "None",
"description": "",
"help": ""
}]}
Mensuration Capabilities: Basic
Inspection Capabilities:
Has Histograms: true
Has Colormap: false
Has Multi Dimensions : false
Rendering Rule:
Min Scale: 0
Max Scale: 0
Copyright Text:
Service Data Type: esriImageServiceDataTypeGeneric
Min Values: 0, 0, 0
Max Values: 255, 255, 252
Mean Values: 173.87713204269, 120.33371775524, 97.247719572201
Standard Deviation Values: 29.961421337968, 30.08062250051, 28.243814870446
Object ID Field:
Fields:
None
Default Mosaic Method: Center
Allowed Mosaic Methods:
SortField:
SortValue: null
Mosaic Operator: First
Default Compression Quality: 75
Default Resampling Method: Bilinear
Max Record Count: null
Max Image Height: 4100
Max Image Width: 15000
Max Download Image Count: null
Max Mosaic Image Count: null
Allow Raster Function: true
Allow Copy: true
Allow Analysis: true
Allow Compute TiePoints: false
Supports Statistics: false
Supports Advanced Queries: false
Use StandardizedQueries: true
Raster Type Infos:
Name: Raster Dataset
Description: Supports all ArcGIS Raster Datasets
Help:
Has Raster Attribute Table: false
Edit Fields Info: null
Ownership Based AccessControl For Rasters: null
Child Resources:
Info
Histograms
Statistics
Key Properties
Legend
Raster Function Infos
Supported Operations:
Export Image
Identify
Measure
Compute Histograms
Compute Statistics Histograms
Get Samples
Compute Class Statistics
Query Boundary
Compute Pixel Location
Compute Angles
Validate
Project