View In:
ArcGIS JavaScript
ArcGIS Online Map Viewer
ArcGIS Earth
Service Description: MexicoMo/APGreen_Sheet2
Name: MexicoMo/APGreen_Sheet2
Description:
Single Fused Map Cache: false
Extent:
XMin: 1817725.3456767038
YMin: 1213616.359494908
XMax: 1818501.519759838
YMax: 1214233.2694632548
Spatial Reference: 0
(0)
LatestVCSWkid(0)
Initial Extent:
XMin: 1817725.3456767038
YMin: 1213616.359494908
XMax: 1818501.519759838
YMax: 1214233.2694632548
Spatial Reference: 0
(0)
LatestVCSWkid(0)
Full Extent:
XMin: 1817725.3456767038
YMin: 1213616.359494908
XMax: 1818501.519759838
YMax: 1214233.2694632548
Spatial Reference: 0
(0)
LatestVCSWkid(0)
Pixel Size X: 0.07631246515919374
Pixel Size Y: 0.07631246515918147
Band Count: 3
Pixel Type: U16
RasterFunction Infos: {"rasterFunctionInfos": [{
"name": "None",
"description": "",
"help": ""
}]}
Mensuration Capabilities: Basic
Inspection Capabilities:
Has Histograms: true
Has Colormap: false
Has Multi Dimensions : false
Rendering Rule:
Min Scale: 0
Max Scale: 0
Copyright Text:
Service Data Type: esriImageServiceDataTypeGeneric
Min Values: 0, 0, 0
Max Values: 255, 255, 250
Mean Values: 201.43189955422, 148.6452495603, 112.74873444361
Standard Deviation Values: 28.195992198893, 30.314130654147, 23.531835522688
Object ID Field:
Fields:
None
Default Mosaic Method: Center
Allowed Mosaic Methods:
SortField:
SortValue: null
Mosaic Operator: First
Default Compression Quality: 75
Default Resampling Method: Bilinear
Max Record Count: null
Max Image Height: 4100
Max Image Width: 15000
Max Download Image Count: null
Max Mosaic Image Count: null
Allow Raster Function: true
Allow Copy: true
Allow Analysis: true
Allow Compute TiePoints: false
Supports Statistics: false
Supports Advanced Queries: false
Use StandardizedQueries: true
Raster Type Infos:
Name: Raster Dataset
Description: Supports all ArcGIS Raster Datasets
Help:
Has Raster Attribute Table: false
Edit Fields Info: null
Ownership Based AccessControl For Rasters: null
Child Resources:
Info
Histograms
Statistics
Key Properties
Legend
Raster Function Infos
Supported Operations:
Export Image
Identify
Measure
Compute Histograms
Compute Statistics Histograms
Get Samples
Compute Class Statistics
Query Boundary
Compute Pixel Location
Compute Angles
Validate
Project