View In:
ArcGIS JavaScript
ArcGIS Online Map Viewer
ArcGIS Earth
Service Description: MexicoMo/APGreen_Sheet10
Name: MexicoMo/APGreen_Sheet10
Description:
Single Fused Map Cache: false
Extent:
XMin: 1818693.5621243594
YMin: 1212703.6221462335
XMax: 1819495.6707789744
YMax: 1213321.0161568054
Spatial Reference: 0
(0)
LatestVCSWkid(0)
Initial Extent:
XMin: 1818693.5621243594
YMin: 1212703.6221462335
XMax: 1819495.6707789744
YMax: 1213321.0161568054
Spatial Reference: 0
(0)
LatestVCSWkid(0)
Full Extent:
XMin: 1818693.5621243594
YMin: 1212703.6221462335
XMax: 1819495.6707789744
YMax: 1213321.0161568054
Spatial Reference: 0
(0)
LatestVCSWkid(0)
Pixel Size X: 0.07629683768810079
Pixel Size Y: 0.07629683768808647
Band Count: 3
Pixel Type: U16
RasterFunction Infos: {"rasterFunctionInfos": [{
"name": "None",
"description": "",
"help": ""
}]}
Mensuration Capabilities: Basic
Inspection Capabilities:
Has Histograms: true
Has Colormap: false
Has Multi Dimensions : false
Rendering Rule:
Min Scale: 0
Max Scale: 0
Copyright Text:
Service Data Type: esriImageServiceDataTypeGeneric
Min Values: 0, 0, 0
Max Values: 255, 255, 253
Mean Values: 227.45676949975, 203.72425068765, 182.96863470161
Standard Deviation Values: 39.708952578412, 40.072769486554, 38.316915046688
Object ID Field:
Fields:
None
Default Mosaic Method: Center
Allowed Mosaic Methods:
SortField:
SortValue: null
Mosaic Operator: First
Default Compression Quality: 75
Default Resampling Method: Bilinear
Max Record Count: null
Max Image Height: 4100
Max Image Width: 15000
Max Download Image Count: null
Max Mosaic Image Count: null
Allow Raster Function: true
Allow Copy: true
Allow Analysis: true
Allow Compute TiePoints: false
Supports Statistics: false
Supports Advanced Queries: false
Use StandardizedQueries: true
Raster Type Infos:
Name: Raster Dataset
Description: Supports all ArcGIS Raster Datasets
Help:
Has Raster Attribute Table: false
Edit Fields Info: null
Ownership Based AccessControl For Rasters: null
Child Resources:
Info
Histograms
Statistics
Key Properties
Legend
Raster Function Infos
Supported Operations:
Export Image
Identify
Measure
Compute Histograms
Compute Statistics Histograms
Get Samples
Compute Class Statistics
Query Boundary
Compute Pixel Location
Compute Angles
Validate
Project