View In:
ArcGIS JavaScript
ArcGIS Online Map Viewer
ArcGIS Earth
Service Description: MexicoMo/APGreen_Sheet1
Name: MexicoMo/APGreen_Sheet1
Description:
Single Fused Map Cache: false
Extent:
XMin: 1817826.6340190093
YMin: 1213942.9919340785
XMax: 1818601.8646125237
YMax: 1214573.443656542
Spatial Reference: 0
(0)
LatestVCSWkid(0)
Initial Extent:
XMin: 1817826.6340190093
YMin: 1213942.9919340785
XMax: 1818601.8646125237
YMax: 1214573.443656542
Spatial Reference: 0
(0)
LatestVCSWkid(0)
Full Extent:
XMin: 1817826.6340190093
YMin: 1213942.9919340785
XMax: 1818601.8646125237
YMax: 1214573.443656542
Spatial Reference: 0
(0)
LatestVCSWkid(0)
Pixel Size X: 0.07627970023756724
Pixel Size Y: 0.0762797002375793
Band Count: 3
Pixel Type: U16
RasterFunction Infos: {"rasterFunctionInfos": [{
"name": "None",
"description": "",
"help": ""
}]}
Mensuration Capabilities: Basic
Inspection Capabilities:
Has Histograms: true
Has Colormap: false
Has Multi Dimensions : false
Rendering Rule:
Min Scale: 0
Max Scale: 0
Copyright Text:
Service Data Type: esriImageServiceDataTypeGeneric
Min Values: 0, 0, 0
Max Values: 255, 255, 249
Mean Values: 207.2753385356, 160.18926244229, 124.58108993942
Standard Deviation Values: 29.927751761691, 34.146579999192, 27.346924498631
Object ID Field:
Fields:
None
Default Mosaic Method: Center
Allowed Mosaic Methods:
SortField:
SortValue: null
Mosaic Operator: First
Default Compression Quality: 75
Default Resampling Method: Bilinear
Max Record Count: null
Max Image Height: 4100
Max Image Width: 15000
Max Download Image Count: null
Max Mosaic Image Count: null
Allow Raster Function: true
Allow Copy: true
Allow Analysis: true
Allow Compute TiePoints: false
Supports Statistics: false
Supports Advanced Queries: false
Use StandardizedQueries: true
Raster Type Infos:
Name: Raster Dataset
Description: Supports all ArcGIS Raster Datasets
Help:
Has Raster Attribute Table: false
Edit Fields Info: null
Ownership Based AccessControl For Rasters: null
Child Resources:
Info
Histograms
Statistics
Key Properties
Legend
Raster Function Infos
Supported Operations:
Export Image
Identify
Measure
Compute Histograms
Compute Statistics Histograms
Get Samples
Compute Class Statistics
Query Boundary
Compute Pixel Location
Compute Angles
Validate
Project