View In:
ArcGIS JavaScript
ArcGIS Online Map Viewer
ArcGIS Earth
Service Description: MarionIL/Williamson_Co_2014_sid
Name: MarionIL/Williamson_Co_2014_sid
Description:
Single Fused Map Cache: false
Extent:
XMin: 745182.684
YMin: 337658.429
XMax: 877764.184
YMax: 437550.429
Spatial Reference: 102671
(3435)
LatestVCSWkid(0)
Initial Extent:
XMin: 745182.684
YMin: 337658.429
XMax: 877764.184
YMax: 437550.429
Spatial Reference: 102671
(3435)
LatestVCSWkid(0)
Full Extent:
XMin: 745182.684
YMin: 337658.429
XMax: 877764.184
YMax: 437550.429
Spatial Reference: 102671
(3435)
LatestVCSWkid(0)
Pixel Size X: 0.5
Pixel Size Y: 0.5
Band Count: 3
Pixel Type: U8
RasterFunction Infos: {"rasterFunctionInfos": [{
"name": "None",
"description": "",
"help": ""
}]}
Mensuration Capabilities: Basic
Inspection Capabilities:
Has Histograms: true
Has Colormap: false
Has Multi Dimensions : false
Rendering Rule:
Min Scale: 0
Max Scale: 0
Copyright Text:
Service Data Type: esriImageServiceDataTypeRGB
Min Values: 17, 21, 8
Max Values: 255, 255, 255
Mean Values: 112.81946624804, 99.870015698587, 81.547566718995
Standard Deviation Values: 24.795928117465, 24.819727977156, 26.53340682522
Object ID Field:
Fields:
None
Default Mosaic Method: Center
Allowed Mosaic Methods:
SortField:
SortValue: null
Mosaic Operator: First
Default Compression Quality: 75
Default Resampling Method: Bilinear
Max Record Count: null
Max Image Height: 4100
Max Image Width: 15000
Max Download Image Count: null
Max Mosaic Image Count: null
Allow Raster Function: true
Allow Copy: true
Allow Analysis: true
Allow Compute TiePoints: false
Supports Statistics: false
Supports Advanced Queries: false
Use StandardizedQueries: true
Raster Type Infos:
Name: Raster Dataset
Description: Supports all ArcGIS Raster Datasets
Help:
Has Raster Attribute Table: false
Edit Fields Info: null
Ownership Based AccessControl For Rasters: null
Child Resources:
Info
Histograms
Statistics
Key Properties
Legend
Raster Function Infos
Supported Operations:
Export Image
Identify
Measure
Compute Histograms
Compute Statistics Histograms
Get Samples
Compute Class Statistics
Query Boundary
Compute Pixel Location
Compute Angles
Validate
Project