View In:
ArcGIS JavaScript
ArcGIS Online Map Viewer
ArcGIS Earth
Service Description: MOJEFF006022_sid
Name: MOJEFF006022_sid
Description:
Single Fused Map Cache: false
Extent:
XMin: 812047.618
YMin: 894727.2217
XMax: 870302.118
YMax: 973934.7217
Spatial Reference: 0
(0)
LatestVCSWkid(0)
Initial Extent:
XMin: 812047.618
YMin: 894727.2217
XMax: 870302.118
YMax: 973934.7217
Spatial Reference: 0
(0)
LatestVCSWkid(0)
Full Extent:
XMin: 812047.618
YMin: 894727.2217
XMax: 870302.118
YMax: 973934.7217
Spatial Reference: 0
(0)
LatestVCSWkid(0)
Pixel Size X: 0.5
Pixel Size Y: 0.5
Band Count: 3
Pixel Type: U8
RasterFunction Infos: {"rasterFunctionInfos": [{
"name": "None",
"description": "",
"help": ""
}]}
Mensuration Capabilities: Basic
Inspection Capabilities:
Has Histograms: true
Has Colormap: false
Has Multi Dimensions : false
Rendering Rule:
Min Scale: 0
Max Scale: 0
Copyright Text:
Service Data Type: esriImageServiceDataTypeRGB
Min Values: 27, 47, 44
Max Values: 255, 255, 255
Mean Values: 142.80409356725, 131.71727395412, 113.74336482231
Standard Deviation Values: 47.134364378126, 50.313465467244, 55.442209072534
Object ID Field:
Fields:
None
Default Mosaic Method: Center
Allowed Mosaic Methods:
SortField:
SortValue: null
Mosaic Operator: First
Default Compression Quality: 75
Default Resampling Method: Bilinear
Max Record Count: null
Max Image Height: 4100
Max Image Width: 15000
Max Download Image Count: null
Max Mosaic Image Count: null
Allow Raster Function: true
Allow Copy: true
Allow Analysis: true
Allow Compute TiePoints: false
Supports Statistics: false
Supports Advanced Queries: false
Use StandardizedQueries: true
Raster Type Infos:
Name: Raster Dataset
Description: Supports all ArcGIS Raster Datasets
Help:
Has Raster Attribute Table: false
Edit Fields Info: null
Ownership Based AccessControl For Rasters: null
Child Resources:
Info
Histograms
Statistics
Key Properties
Legend
Raster Function Infos
Supported Operations:
Export Image
Identify
Measure
Compute Histograms
Compute Statistics Histograms
Get Samples
Compute Class Statistics
Query Boundary
Compute Pixel Location
Compute Angles
Validate
Project