View In:
ArcGIS JavaScript
ArcGIS Online Map Viewer
ArcGIS Earth
Service Description: MOJEFF/MOJEFF006018_sid
Name: MOJEFF/MOJEFF006018_sid
Description:
Single Fused Map Cache: false
Extent:
XMin: 743130.2726
YMin: 894728.1812
XMax: 812072.2726
YMax: 973935.1812
Spatial Reference: 0
(0)
LatestVCSWkid(0)
Initial Extent:
XMin: 743130.2726
YMin: 894728.1812
XMax: 812072.2726
YMax: 973935.1812
Spatial Reference: 0
(0)
LatestVCSWkid(0)
Full Extent:
XMin: 743130.2726
YMin: 894728.1812
XMax: 812072.2726
YMax: 973935.1812
Spatial Reference: 0
(0)
LatestVCSWkid(0)
Pixel Size X: 0.5
Pixel Size Y: 0.5
Band Count: 3
Pixel Type: U8
RasterFunction Infos: {"rasterFunctionInfos": [{
"name": "None",
"description": "",
"help": ""
}]}
Mensuration Capabilities: Basic
Inspection Capabilities:
Has Histograms: true
Has Colormap: false
Has Multi Dimensions : false
Rendering Rule:
Min Scale: 0
Max Scale: 0
Copyright Text:
Service Data Type: esriImageServiceDataTypeRGB
Min Values: 19, 24, 9
Max Values: 255, 255, 255
Mean Values: 138.0903092006, 128.76960784314, 114.09332579186
Standard Deviation Values: 49.364959967615, 49.909704403675, 51.777807292352
Object ID Field:
Fields:
None
Default Mosaic Method: Center
Allowed Mosaic Methods:
SortField:
SortValue: null
Mosaic Operator: First
Default Compression Quality: 75
Default Resampling Method: Bilinear
Max Record Count: null
Max Image Height: 4100
Max Image Width: 15000
Max Download Image Count: null
Max Mosaic Image Count: null
Allow Raster Function: true
Allow Copy: true
Allow Analysis: true
Allow Compute TiePoints: false
Supports Statistics: false
Supports Advanced Queries: false
Use StandardizedQueries: true
Raster Type Infos:
Name: Raster Dataset
Description: Supports all ArcGIS Raster Datasets
Help:
Has Raster Attribute Table: false
Edit Fields Info: null
Ownership Based AccessControl For Rasters: null
Child Resources:
Info
Histograms
Statistics
Key Properties
Legend
Raster Function Infos
Supported Operations:
Export Image
Identify
Measure
Compute Histograms
Compute Statistics Histograms
Get Samples
Compute Class Statistics
Query Boundary
Compute Pixel Location
Compute Angles
Validate
Project