View In:
ArcGIS JavaScript
ArcGIS Online Map Viewer
ArcGIS Earth
Service Description: MCLD/T20210930_Imagery_ii
Name: MCLD/T20210930_Imagery_ii
Description:
Single Fused Map Cache: false
Extent:
XMin: 794989.559629687
YMin: 1031001.6930403056
XMax: 801422.0965230311
YMax: 1033837.7033945558
Spatial Reference: 102696
(102696)
VCSWkid(105703)
LatestVCSWkid(6360)
Initial Extent:
XMin: 794989.559629687
YMin: 1031001.6930403056
XMax: 801422.0965230311
YMax: 1033837.7033945558
Spatial Reference: 102696
(102696)
VCSWkid(105703)
LatestVCSWkid(6360)
Full Extent:
XMin: 794989.559629687
YMin: 1031001.6930403056
XMax: 801422.0965230311
YMax: 1033837.7033945558
Spatial Reference: 102696
(102696)
VCSWkid(105703)
LatestVCSWkid(6360)
Pixel Size X: 0.6500138331996903
Pixel Size Y: 0.65001383319968
Band Count: 3
Pixel Type: U8
RasterFunction Infos: {"rasterFunctionInfos": [{
"name": "None",
"description": "",
"help": ""
}]}
Mensuration Capabilities: Basic
Inspection Capabilities:
Has Histograms: true
Has Colormap: false
Has Multi Dimensions : false
Rendering Rule:
Min Scale: 0
Max Scale: 0
Copyright Text:
Service Data Type: esriImageServiceDataTypeRGB
Min Values: 0, 0, 0
Max Values: 255, 255, 255
Mean Values: 28.856757747917328, 27.280107224694465, 22.304419642948133
Standard Deviation Values: 58.597895820877426, 54.69352467771898, 46.77795513718958
Object ID Field:
Fields:
None
Default Mosaic Method: Center
Allowed Mosaic Methods:
SortField:
SortValue: null
Mosaic Operator: First
Default Compression Quality: 75
Default Resampling Method: Bilinear
Max Record Count: null
Max Image Height: 4100
Max Image Width: 15000
Max Download Image Count: null
Max Mosaic Image Count: null
Allow Raster Function: true
Allow Copy: true
Allow Analysis: true
Allow Compute TiePoints: false
Supports Statistics: false
Supports Advanced Queries: false
Use StandardizedQueries: true
Raster Type Infos:
Name: Raster Dataset
Description: Supports all ArcGIS Raster Datasets
Help:
Has Raster Attribute Table: false
Edit Fields Info: null
Ownership Based AccessControl For Rasters: null
Child Resources:
Info
Histograms
Statistics
Key Properties
Legend
Raster Function Infos
Supported Operations:
Export Image
Identify
Measure
Compute Histograms
Compute Statistics Histograms
Get Samples
Compute Class Statistics
Query Boundary
Compute Pixel Location
Compute Angles
Validate
Project