View In:
ArcGIS JavaScript
ArcGIS Online Map Viewer
ArcGIS Earth
Service Description: JCHD/JCHD_2019_6INCH
Name: JCHD/JCHD_2019_6INCH
Description:
Single Fused Map Cache: false
Extent:
XMin: 2172456.0
YMin: 818928.5
XMax: 2304456.0
YMax: 945648.0
Spatial Reference: 102672
(3436)
LatestVCSWkid(0)
Initial Extent:
XMin: 2172456.0
YMin: 818928.5
XMax: 2304456.0
YMax: 945648.0
Spatial Reference: 102672
(3436)
LatestVCSWkid(0)
Full Extent:
XMin: 2172456.0
YMin: 818928.5
XMax: 2304456.0
YMax: 945648.0
Spatial Reference: 102672
(3436)
LatestVCSWkid(0)
Pixel Size X: 0.5
Pixel Size Y: 0.5
Band Count: 3
Pixel Type: U8
RasterFunction Infos: {"rasterFunctionInfos": [{
"name": "None",
"description": "",
"help": ""
}]}
Mensuration Capabilities: Basic
Inspection Capabilities:
Has Histograms: true
Has Colormap: false
Has Multi Dimensions : false
Rendering Rule:
Min Scale: 0
Max Scale: 0
Copyright Text:
Service Data Type: esriImageServiceDataTypeProcessed
Min Values: 0, 0, 0
Max Values: 255, 255, 255
Mean Values: 179.2264239101758, 163.1750009387577, 140.63650057199672
Standard Deviation Values: 57.76749828145973, 64.01314127622176, 72.96818975825633
Object ID Field:
Fields:
None
Default Mosaic Method: Center
Allowed Mosaic Methods:
SortField:
SortValue: null
Mosaic Operator: First
Default Compression Quality: 75
Default Resampling Method: Bilinear
Max Record Count: null
Max Image Height: 4100
Max Image Width: 15000
Max Download Image Count: null
Max Mosaic Image Count: null
Allow Raster Function: true
Allow Copy: true
Allow Analysis: true
Allow Compute TiePoints: false
Supports Statistics: false
Supports Advanced Queries: false
Use StandardizedQueries: true
Raster Type Infos:
Name: Raster Dataset
Description: Supports all ArcGIS Raster Datasets
Help:
Has Raster Attribute Table: false
Edit Fields Info: null
Ownership Based AccessControl For Rasters: null
Child Resources:
Info
Histograms
Statistics
Key Properties
Legend
Raster Function Infos
Supported Operations:
Export Image
Identify
Measure
Compute Histograms
Compute Statistics Histograms
Get Samples
Compute Class Statistics
Query Boundary
Compute Pixel Location
Compute Angles
Validate
Project