View In:
ArcGIS JavaScript
ArcGIS Online Map Viewer
ArcGIS Earth
Service Description: EllisvilleMO/Ellisville_Mosaic_2022_sid
Name: EllisvilleMO/Ellisville_Mosaic_2022_sid
Description:
Single Fused Map Cache: false
Extent:
XMin: 785174.5
YMin: 990042.0
XMax: 807675.0
YMax: 1015043.0
Spatial Reference: 0
(0)
LatestVCSWkid(0)
Initial Extent:
XMin: 785174.5
YMin: 990042.0
XMax: 807675.0
YMax: 1015043.0
Spatial Reference: 0
(0)
LatestVCSWkid(0)
Full Extent:
XMin: 785174.5
YMin: 990042.0
XMax: 807675.0
YMax: 1015043.0
Spatial Reference: 0
(0)
LatestVCSWkid(0)
Pixel Size X: 0.5
Pixel Size Y: 0.5
Band Count: 5
Pixel Type: U8
RasterFunction Infos: {"rasterFunctionInfos": [{
"name": "None",
"description": "",
"help": ""
}]}
Mensuration Capabilities: Basic
Inspection Capabilities:
Has Histograms: true
Has Colormap: false
Has Multi Dimensions : false
Rendering Rule:
Min Scale: 0
Max Scale: 0
Copyright Text:
Service Data Type: esriImageServiceDataTypeGeneric
Min Values: 0, 14, 20, 0, 255
Max Values: 248, 252, 255, 234, 255
Mean Values: 97.580125231911, 91.495013914657, 79.687152133581, 113.88903061224, 255
Standard Deviation Values: 26.055346920321, 26.404801932989, 24.730626533423, 24.845759826222, 0
Object ID Field:
Fields:
None
Default Mosaic Method: Center
Allowed Mosaic Methods:
SortField:
SortValue: null
Mosaic Operator: First
Default Compression Quality: 75
Default Resampling Method: Bilinear
Max Record Count: null
Max Image Height: 4100
Max Image Width: 15000
Max Download Image Count: null
Max Mosaic Image Count: null
Allow Raster Function: true
Allow Copy: true
Allow Analysis: true
Allow Compute TiePoints: false
Supports Statistics: false
Supports Advanced Queries: false
Use StandardizedQueries: true
Raster Type Infos:
Name: Raster Dataset
Description: Supports all ArcGIS Raster Datasets
Help:
Has Raster Attribute Table: false
Edit Fields Info: null
Ownership Based AccessControl For Rasters: null
Child Resources:
Info
Histograms
Statistics
Key Properties
Legend
Raster Function Infos
Supported Operations:
Export Image
Identify
Measure
Compute Histograms
Compute Statistics Histograms
Get Samples
Compute Class Statistics
Query Boundary
Compute Pixel Location
Compute Angles
Validate
Project