View In:
ArcGIS JavaScript
ArcGIS Online Map Viewer
ArcGIS Earth
Service Description: CreveCoeur/Creve_Coeur2022_tif
Name: CreveCoeur/Creve_Coeur2022_tif
Description:
Single Fused Map Cache: false
Extent:
XMin: 807674.5
YMin: 1015042.0
XMax: 860175.0
YMax: 1050043.0
Spatial Reference: 0
(0)
LatestVCSWkid(0)
Initial Extent:
XMin: 807674.5
YMin: 1015042.0
XMax: 860175.0
YMax: 1050043.0
Spatial Reference: 0
(0)
LatestVCSWkid(0)
Full Extent:
XMin: 807674.5
YMin: 1015042.0
XMax: 860175.0
YMax: 1050043.0
Spatial Reference: 0
(0)
LatestVCSWkid(0)
Pixel Size X: 0.5
Pixel Size Y: 0.5
Band Count: 5
Pixel Type: U8
RasterFunction Infos: {"rasterFunctionInfos": [{
"name": "None",
"description": "",
"help": ""
}]}
Mensuration Capabilities: Basic
Inspection Capabilities:
Has Histograms: true
Has Colormap: false
Has Multi Dimensions : false
Rendering Rule:
Min Scale: 0
Max Scale: 0
Copyright Text:
Service Data Type: esriImageServiceDataTypeGeneric
Min Values: 0, 0, 0, 0, 255
Max Values: 255, 255, 255, 255, 255
Mean Values: 96.248588131647, 91.814224654467, 80.844933135573, 111.65996387011, 255
Standard Deviation Values: 45.919411284381, 43.649971692587, 41.024575858585, 51.304097282918, 0
Object ID Field:
Fields:
None
Default Mosaic Method: Center
Allowed Mosaic Methods:
SortField:
SortValue: null
Mosaic Operator: First
Default Compression Quality: 75
Default Resampling Method: Bilinear
Max Record Count: null
Max Image Height: 4100
Max Image Width: 15000
Max Download Image Count: null
Max Mosaic Image Count: null
Allow Raster Function: true
Allow Copy: true
Allow Analysis: true
Allow Compute TiePoints: false
Supports Statistics: false
Supports Advanced Queries: false
Use StandardizedQueries: true
Raster Type Infos:
Name: Raster Dataset
Description: Supports all ArcGIS Raster Datasets
Help:
Has Raster Attribute Table: false
Edit Fields Info: null
Ownership Based AccessControl For Rasters: null
Child Resources:
Info
Histograms
Statistics
Key Properties
Legend
Raster Function Infos
Supported Operations:
Export Image
Identify
Measure
Compute Histograms
Compute Statistics Histograms
Get Samples
Compute Class Statistics
Query Boundary
Compute Pixel Location
Compute Angles
Validate
Project