View In:
ArcGIS JavaScript
ArcGIS Online Map Viewer
ArcGIS Earth
Service Description: CreveCoeur/CreveCoeur_Mosaic_sid
Name: CreveCoeur/CreveCoeur_Mosaic_sid
Description:
Single Fused Map Cache: false
Extent:
XMin: 807674.5
YMin: 1015042.0
XMax: 852675.0
YMax: 1045043.0
Spatial Reference: 0
(0)
LatestVCSWkid(0)
Initial Extent:
XMin: 807674.5
YMin: 1015042.0
XMax: 852675.0
YMax: 1045043.0
Spatial Reference: 0
(0)
LatestVCSWkid(0)
Full Extent:
XMin: 807674.5
YMin: 1015042.0
XMax: 852675.0
YMax: 1045043.0
Spatial Reference: 0
(0)
LatestVCSWkid(0)
Pixel Size X: 0.5
Pixel Size Y: 0.5
Band Count: 3
Pixel Type: U8
RasterFunction Infos: {"rasterFunctionInfos": [{
"name": "None",
"description": "",
"help": ""
}]}
Mensuration Capabilities: Basic
Inspection Capabilities:
Has Histograms: true
Has Colormap: false
Has Multi Dimensions : false
Rendering Rule:
Min Scale: 0
Max Scale: 0
Copyright Text:
Service Data Type: esriImageServiceDataTypeRGB
Min Values: 0, 0, 0
Max Values: 221, 222, 219
Mean Values: 82.526194144838, 83.708012326656, 69.433359013867
Standard Deviation Values: 33.072440094979, 32.780328723351, 29.697035119358
Object ID Field:
Fields:
None
Default Mosaic Method: Center
Allowed Mosaic Methods:
SortField:
SortValue: null
Mosaic Operator: First
Default Compression Quality: 75
Default Resampling Method: Bilinear
Max Record Count: null
Max Image Height: 4100
Max Image Width: 15000
Max Download Image Count: null
Max Mosaic Image Count: null
Allow Raster Function: true
Allow Copy: true
Allow Analysis: true
Allow Compute TiePoints: false
Supports Statistics: false
Supports Advanced Queries: false
Use StandardizedQueries: true
Raster Type Infos:
Name: Raster Dataset
Description: Supports all ArcGIS Raster Datasets
Help:
Has Raster Attribute Table: false
Edit Fields Info: null
Ownership Based AccessControl For Rasters: null
Child Resources:
Info
Histograms
Statistics
Key Properties
Legend
Raster Function Infos
Supported Operations:
Export Image
Identify
Measure
Compute Histograms
Compute Statistics Histograms
Get Samples
Compute Class Statistics
Query Boundary
Compute Pixel Location
Compute Angles
Validate
Project