View In:
ArcGIS JavaScript
ArcGIS Online Map Viewer
ArcGIS Earth
Service Description: ArbyrdMO/3609063_sid
Name: ArbyrdMO/3609063_sid
Description:
Single Fused Map Cache: false
Extent:
XMin: 747288.0
YMin: 3987245.4
XMax: 759352.2
YMax: 4001842.8
Spatial Reference: 26915
(26915)
LatestVCSWkid(0)
Initial Extent:
XMin: 747288.0
YMin: 3987245.4
XMax: 759352.2
YMax: 4001842.8
Spatial Reference: 26915
(26915)
LatestVCSWkid(0)
Full Extent:
XMin: 747288.0
YMin: 3987245.4
XMax: 759352.2
YMax: 4001842.8
Spatial Reference: 26915
(26915)
LatestVCSWkid(0)
Pixel Size X: 0.5999999999999976
Pixel Size Y: 0.5999999999999962
Band Count: 3
Pixel Type: U8
RasterFunction Infos: {"rasterFunctionInfos": [{
"name": "None",
"description": "",
"help": ""
}]}
Mensuration Capabilities: Basic
Inspection Capabilities:
Has Histograms: true
Has Colormap: false
Has Multi Dimensions : false
Rendering Rule:
Min Scale: 0
Max Scale: 0
Copyright Text:
Service Data Type: esriImageServiceDataTypeRGB
Min Values: 0, 0, 0
Max Values: 233, 226, 216
Mean Values: 136.69290611814, 134.79087552743, 117.81025843882
Standard Deviation Values: 38.683374358845, 36.303649243424, 31.146910047771
Object ID Field:
Fields:
None
Default Mosaic Method: Center
Allowed Mosaic Methods:
SortField:
SortValue: null
Mosaic Operator: First
Default Compression Quality: 75
Default Resampling Method: Bilinear
Max Record Count: null
Max Image Height: 4100
Max Image Width: 15000
Max Download Image Count: null
Max Mosaic Image Count: null
Allow Raster Function: true
Allow Copy: true
Allow Analysis: true
Allow Compute TiePoints: false
Supports Statistics: false
Supports Advanced Queries: false
Use StandardizedQueries: true
Raster Type Infos:
Name: Raster Dataset
Description: Supports all ArcGIS Raster Datasets
Help:
Has Raster Attribute Table: false
Edit Fields Info: null
Ownership Based AccessControl For Rasters: null
Child Resources:
Info
Histograms
Statistics
Key Properties
Legend
Raster Function Infos
Supported Operations:
Export Image
Identify
Measure
Compute Histograms
Compute Statistics Histograms
Get Samples
Compute Class Statistics
Query Boundary
Compute Pixel Location
Compute Angles
Validate
Project