{
 "currentVersion": 11.5,
 "serviceDescription": "PoplarBluffMO/PB_Aerial_tif",
 "name": "PoplarBluffMO/PB_Aerial_tif",
 "description": "",
 "extent": {
  "xmin": 829500.0001120046,
  "ymin": 317499.99996592896,
  "xmax": 863500.0001120046,
  "ymax": 357499.99996592896,
  "spatialReference": {
   "wkid": 102696,
   "latestWkid": 102696
  }
 },
 "initialExtent": {
  "xmin": 829500.0001120046,
  "ymin": 317499.99996592896,
  "xmax": 863500.0001120046,
  "ymax": 357499.99996592896,
  "spatialReference": {
   "wkid": 102696,
   "latestWkid": 102696
  }
 },
 "fullExtent": {
  "xmin": 829500.0001120046,
  "ymin": 317499.99996592896,
  "xmax": 863500.0001120046,
  "ymax": 357499.99996592896,
  "spatialReference": {
   "wkid": 102696,
   "latestWkid": 102696
  }
 },
 "sortableFields": "",
 "bandCount": 3,
 "pixelType": "U8",
 "minValues": [
  0,
  0,
  0
 ],
 "maxValues": [
  255,
  255,
  255
 ],
 "meanValues": [
  127.509477,
  127.509477,
  127.509477
 ],
 "stdvValues": [
  127.49999965739,
  127.49999965739,
  127.49999965739
 ],
 "serviceProperties": "Center<\/MosaicMethod>First<\/MosaicOperator>true<\/SortAscending><\/LockImageID><\/TileOrderField>0<\/TileOrderBase>0.000000<\/AvgImageSpacingX>0.000000<\/AvgImageSpacingY>0.0<\/ViewPointX>0.0<\/ViewPointY>0.0<\/ViewPointDefShiftX>0.0<\/ViewPointDefShiftY>None<\/CompressionMethod>75<\/CompressionQuality>0.010000<\/CompressionTolerance>Bilinear<\/SamplingMethod><\/ImageServiceProperties><\/ImageServer>",
 "allowedFields": "",
 "hasMultidimensions": false,
 "pixelSizeX": 0.5,
 "pixelSizeY": 0.5,
 "meanPixelSize": 0.15240030480060962,
 "datasetFormat": "TIFF",
 "uncompressedSize": 16320000000,
 "blockWidth": 128,
 "blockHeight": 128,
 "compressionType": "LZW",
 "bandNames": [
  "Band_1",
  "Band_2",
  "Band_3"
 ],
 "allowCopy": true,
 "allowAnalysis": true,
 "itemAccess": false,
 "inspectionCapabilities": "",
 "noDataValue": 256,
 "noDataValues": [
  256,
  256,
  256
 ],
 "minPixelSize": 0,
 "maxPixelSize": 0,
 "copyrightText": "",
 "serviceDataType": "esriImageServiceDataTypeRGB",
 "serviceSourceType": "esriImageServiceSourceTypeDataset",
 "objectIdField": "",
 "fields": [],
 "capabilities": "Image,Metadata,Mensuration",
 "defaultMosaicMethod": "Center",
 "allowedMosaicMethods": "",
 "sortField": "",
 "sortValue": null,
 "sortAscending": true,
 "mosaicOperator": "First",
 "defaultCompressionQuality": 75,
 "defaultResamplingMethod": "Bilinear",
 "maxImageHeight": 4100,
 "maxImageWidth": 15000,
 "allowRasterFunction": true,
 "rasterFunctionInfos": [
  {
   "name": "None",
   "description": "",
   "help": ""
  }
 ],
 "rasterTypeInfos": [
  {
   "name": "Raster Dataset",
   "description": "Supports all ArcGIS Raster Datasets",
   "help": ""
  }
 ],
 "mensurationCapabilities": "Basic",
 "hasHistograms": true,
 "hasColormap": false,
 "hasRasterAttributeTable": false,
 "minScale": 0,
 "maxScale": 0,
 "exportTilesAllowed": false,
 "supportsStatistics": false,
 "supportsAdvancedQueries": false,
 "editFieldsInfo": null,
 "ownershipBasedAccessControlForRasters": null,
 "allowComputeTiePoints": false,
 "useStandardizedQueries": true,
 "advancedQueryCapabilities": {
  "useStandardizedQueries": true,
  "supportsStatistics": false,
  "supportsOrderBy": false,
  "supportsDistinct": false,
  "supportsPagination": false
 },
 "spatialReference": {
  "wkid": 102696,
  "latestWkid": 102696
 }
}
