{
 "currentVersion": 11.5,
 "serviceDescription": "Ayres Associates provided Jersey County, Illinois with digital, color orthoimagery services in 2016. The aerial imagery was collected on February 29, using a Leica Geosystems RCD30 sensor mounted in a fixed wing aircraft. Aerial imagery was collected to support 0.25 foot ground sample distance (GSD) orthoimagery to meet ASPRS Class II horizontal accuracy specifications at 1\" = 50' map scale. The horizontal accuracy meets or exceeds 1.0 feet RMSE using the National Standards for Spatial Data Accuracy (NSSDA) standards. Resultant orthoimagery was rectified to a new DEM from existing LiDAR created as part of the Illinois Height Modernization Program (ILHMP). Orthoimagery was delivered in PLSS quarter-section GeoTiff and MrSID tiles and a project-wide MrSID mosaic. The orthoimagery was delivered according to a quarter-section tile schematic.",
 "name": "JCHD/Fieldon_2016_sid",
 "description": "Ayres Associates provided Jersey County, Illinois with digital, color orthoimagery services in 2016. The aerial imagery was collected on February 29, using a Leica Geosystems RCD30 sensor mounted in a fixed wing aircraft. Aerial imagery was collected to support 0.25 foot ground sample distance (GSD) orthoimagery to meet ASPRS Class II horizontal accuracy specifications at 1\" = 50' map scale. The horizontal accuracy meets or exceeds 1.0 feet RMSE using the National Standards for Spatial Data Accuracy (NSSDA) standards. Resultant orthoimagery was rectified to a new DEM from existing LiDAR created as part of the Illinois Height Modernization Program (ILHMP). Orthoimagery was delivered in PLSS quarter-section GeoTiff and MrSID tiles and a project-wide MrSID mosaic. The orthoimagery was delivered according to a quarter-section tile schematic.",
 "extent": {
  "xmin": 2200143.74,
  "ymin": 887289.127,
  "xmax": 2203846.99,
  "ymax": 890616.877,
  "spatialReference": {
   "wkid": 102672,
   "latestWkid": 3436
  }
 },
 "initialExtent": {
  "xmin": 2200143.74,
  "ymin": 887289.127,
  "xmax": 2203846.99,
  "ymax": 890616.877,
  "spatialReference": {
   "wkid": 102672,
   "latestWkid": 3436
  }
 },
 "fullExtent": {
  "xmin": 2200143.74,
  "ymin": 887289.127,
  "xmax": 2203846.99,
  "ymax": 890616.877,
  "spatialReference": {
   "wkid": 102672,
   "latestWkid": 3436
  }
 },
 "sortableFields": "",
 "bandCount": 5,
 "pixelType": "U8",
 "minValues": [
  0,
  0,
  0,
  0,
  0
 ],
 "maxValues": [
  255,
  255,
  255,
  255,
  255
 ],
 "meanValues": [
  131.37371983242,
  120.76514421188,
  103.05811469512,
  137.47200813558,
  253.1683286375
 ],
 "stdvValues": [
  33.726332938853,
  31.050130711374,
  29.732558269385,
  27.6447354668,
  21.534186304785
 ],
 "serviceProperties": "Center<\/MosaicMethod>First<\/MosaicOperator>true<\/SortAscending><\/LockImageID><\/TileOrderField>0<\/TileOrderBase>0.000000<\/AvgImageSpacingX>0.000000<\/AvgImageSpacingY>0.0<\/ViewPointX>0.0<\/ViewPointY>0.0<\/ViewPointDefShiftX>0.0<\/ViewPointDefShiftY>None<\/CompressionMethod>75<\/CompressionQuality>0.010000<\/CompressionTolerance>Bilinear<\/SamplingMethod><\/ImageServiceProperties><\/ImageServer>",
 "allowedFields": "",
 "hasMultidimensions": false,
 "pixelSizeX": 0.25,
 "pixelSizeY": 0.25,
 "meanPixelSize": 0.07620015240030481,
 "datasetFormat": "MrSID",
 "uncompressedSize": 985879215,
 "blockWidth": 1024,
 "blockHeight": 128,
 "compressionType": "Wavelet (MG4)",
 "bandNames": [
  "Band_1",
  "Band_2",
  "Band_3",
  "Band_4",
  "Band_5"
 ],
 "allowCopy": true,
 "allowAnalysis": true,
 "itemAccess": false,
 "inspectionCapabilities": "",
 "noDataValue": 0,
 "noDataValues": [
  0,
  0,
  0,
  0,
  0
 ],
 "minPixelSize": 0,
 "maxPixelSize": 0,
 "copyrightText": "",
 "serviceDataType": "esriImageServiceDataTypeGeneric",
 "serviceSourceType": "esriImageServiceSourceTypeDataset",
 "objectIdField": "",
 "fields": [],
 "capabilities": "Image,Metadata,Mensuration",
 "defaultMosaicMethod": "Center",
 "allowedMosaicMethods": "",
 "sortField": "",
 "sortValue": null,
 "sortAscending": true,
 "mosaicOperator": "First",
 "defaultCompressionQuality": 75,
 "defaultResamplingMethod": "Bilinear",
 "maxImageHeight": 4100,
 "maxImageWidth": 15000,
 "allowRasterFunction": true,
 "rasterFunctionInfos": [
  {
   "name": "None",
   "description": "",
   "help": ""
  }
 ],
 "rasterTypeInfos": [
  {
   "name": "Raster Dataset",
   "description": "Supports all ArcGIS Raster Datasets",
   "help": ""
  }
 ],
 "mensurationCapabilities": "Basic",
 "hasHistograms": true,
 "hasColormap": false,
 "hasRasterAttributeTable": false,
 "minScale": 0,
 "maxScale": 0,
 "exportTilesAllowed": false,
 "supportsStatistics": false,
 "supportsAdvancedQueries": false,
 "editFieldsInfo": null,
 "ownershipBasedAccessControlForRasters": null,
 "allowComputeTiePoints": false,
 "useStandardizedQueries": true,
 "advancedQueryCapabilities": {
  "useStandardizedQueries": true,
  "supportsStatistics": false,
  "supportsOrderBy": false,
  "supportsDistinct": false,
  "supportsPagination": false
 },
 "spatialReference": {
  "wkid": 102672,
  "latestWkid": 3436
 }
}
